BEGIN:VCALENDAR
VERSION:2.0
PRODID:-//DSL Consulting Ltd - ECPv5.3.1.1//NONSGML v1.0//EN
CALSCALE:GREGORIAN
METHOD:PUBLISH
X-WR-CALNAME:DSL Consulting Ltd
X-ORIGINAL-URL:https://www.dslconsultingltd.co.uk
X-WR-CALDESC:Events for DSL Consulting Ltd
BEGIN:VTIMEZONE
TZID:Europe/London
BEGIN:DAYLIGHT
TZOFFSETFROM:+0000
TZOFFSETTO:+0100
TZNAME:BST
DTSTART:20210328T010000
END:DAYLIGHT
BEGIN:STANDARD
TZOFFSETFROM:+0100
TZOFFSETTO:+0000
TZNAME:GMT
DTSTART:20211031T010000
END:STANDARD
END:VTIMEZONE
BEGIN:VEVENT
DTSTART;TZID=Europe/London:20211106T080000
DTEND;TZID=Europe/London:20211106T170000
DTSTAMP:20260423T105212
CREATED:20201106T121555Z
LAST-MODIFIED:20201209T151426Z
UID:272157-1636185600-1636218000@www.dslconsultingltd.co.uk
SUMMARY:AM Ireland
DESCRIPTION:
URL:https://www.dslconsultingltd.co.uk/event/am-ireland
ATTACH;FMTTYPE=image/jpeg:https://www.dslconsultingltd.co.uk/wp-content/uploads/2020/09/AM.jpg
END:VEVENT
END:VCALENDAR